BEGIN:VCALENDAR
VERSION:2.0
PRODID:-//NYSCOPBA - ECPv6.15.18//NONSGML v1.0//EN
CALSCALE:GREGORIAN
METHOD:PUBLISH
X-ORIGINAL-URL:https://www.nyscopba.org
X-WR-CALDESC:Events for NYSCOPBA
REFRESH-INTERVAL;VALUE=DURATION:PT1H
X-Robots-Tag:noindex
X-PUBLISHED-TTL:PT1H
BEGIN:VTIMEZONE
TZID:America/New_York
BEGIN:DAYLIGHT
TZOFFSETFROM:-0500
TZOFFSETTO:-0400
TZNAME:EDT
DTSTART:20230312T070000
END:DAYLIGHT
BEGIN:STANDARD
TZOFFSETFROM:-0400
TZOFFSETTO:-0500
TZNAME:EST
DTSTART:20231105T060000
END:STANDARD
BEGIN:DAYLIGHT
TZOFFSETFROM:-0500
TZOFFSETTO:-0400
TZNAME:EDT
DTSTART:20240310T070000
END:DAYLIGHT
BEGIN:STANDARD
TZOFFSETFROM:-0400
TZOFFSETTO:-0500
TZNAME:EST
DTSTART:20241103T060000
END:STANDARD
BEGIN:DAYLIGHT
TZOFFSETFROM:-0500
TZOFFSETTO:-0400
TZNAME:EDT
DTSTART:20250309T070000
END:DAYLIGHT
BEGIN:STANDARD
TZOFFSETFROM:-0400
TZOFFSETTO:-0500
TZNAME:EST
DTSTART:20251102T060000
END:STANDARD
END:VTIMEZONE
BEGIN:VEVENT
DTSTART;TZID=America/New_York:20241120T100000
DTEND;TZID=America/New_York:20241120T110000
DTSTAMP:20260425T120212
CREATED:20241106T162855Z
LAST-MODIFIED:20241106T162855Z
UID:171518-1732096800-1732100400@www.nyscopba.org
SUMMARY:Health & Welfare Committee
DESCRIPTION:
URL:https://www.nyscopba.org/event/health-welfare-committee/
LOCATION:Main Office\, 102 Hackett Blvd.\, Albany\, NY\, 12209\, United States
CATEGORIES:Committee Events
END:VEVENT
BEGIN:VEVENT
DTSTART;TZID=America/New_York:20241114T120000
DTEND;TZID=America/New_York:20241114T130000
DTSTAMP:20260425T120212
CREATED:20241106T162816Z
LAST-MODIFIED:20241106T162816Z
UID:171516-1731585600-1731589200@www.nyscopba.org
SUMMARY:Audit Committee
DESCRIPTION:
URL:https://www.nyscopba.org/event/audit-committee/
LOCATION:Main Office\, 102 Hackett Blvd.\, Albany\, NY\, 12209\, United States
CATEGORIES:Committee Events
END:VEVENT
BEGIN:VEVENT
DTSTART;TZID=America/New_York:20241113T100000
DTEND;TZID=America/New_York:20241113T110000
DTSTAMP:20260425T120212
CREATED:20241106T162735Z
LAST-MODIFIED:20241106T162735Z
UID:171514-1731492000-1731495600@www.nyscopba.org
SUMMARY:Legislative/PAC Committee Meeting
DESCRIPTION:
URL:https://www.nyscopba.org/event/legislative-pac-committee-meeting/
LOCATION:Main Office\, 102 Hackett Blvd.\, Albany\, NY\, 12209\, United States
CATEGORIES:Committee Events
END:VEVENT
BEGIN:VEVENT
DTSTART;TZID=America/New_York:20241113T093000
DTEND;TZID=America/New_York:20241113T103000
DTSTAMP:20260425T120212
CREATED:20241106T162557Z
LAST-MODIFIED:20241106T162557Z
UID:171509-1731490200-1731493800@www.nyscopba.org
SUMMARY:Finance Committee
DESCRIPTION:Finance Committee – Nov. 13 and 14.
URL:https://www.nyscopba.org/event/finance-committee/
LOCATION:Main Office\, 102 Hackett Blvd.\, Albany\, NY\, 12209\, United States
CATEGORIES:Committee Events
END:VEVENT
BEGIN:VEVENT
DTSTART;TZID=America/New_York:20241113T090000
DTEND;TZID=America/New_York:20241113T100000
DTSTAMP:20260425T120212
CREATED:20241106T162644Z
LAST-MODIFIED:20241106T162652Z
UID:171512-1731488400-1731492000@www.nyscopba.org
SUMMARY:Constitution & Bylaws Committee
DESCRIPTION:Constitution & Bylaws Committee.
URL:https://www.nyscopba.org/event/constitution-bylaws-committee/
LOCATION:Main Office\, 102 Hackett Blvd.\, Albany\, NY\, 12209\, United States
CATEGORIES:Committee Events
END:VEVENT
BEGIN:VEVENT
DTSTART;TZID=America/New_York:20241107T090000
DTEND;TZID=America/New_York:20241107T100000
DTSTAMP:20260425T120212
CREATED:20241106T144009Z
LAST-MODIFIED:20241106T162354Z
UID:171479-1730970000-1730973600@www.nyscopba.org
SUMMARY:Grievance Legal Committee
DESCRIPTION:
URL:https://www.nyscopba.org/event/grievance-legal-committee/
LOCATION:Main Office\, 102 Hackett Blvd.\, Albany\, NY\, 12209\, United States
CATEGORIES:Committee Events
END:VEVENT
END:VCALENDAR